BEGIN:VCALENDAR
VERSION:2.0
PRODID:-//A New Way to Life - ECPv6.15.17.1//NONSGML v1.0//EN
CALSCALE:GREGORIAN
METHOD:PUBLISH
X-ORIGINAL-URL:https://anewwaytolife.com
X-WR-CALDESC:Events for A New Way to Life
REFRESH-INTERVAL;VALUE=DURATION:PT1H
X-Robots-Tag:noindex
X-PUBLISHED-TTL:PT1H
BEGIN:VTIMEZONE
TZID:UTC
BEGIN:STANDARD
TZOFFSETFROM:+0000
TZOFFSETTO:+0000
TZNAME:UTC
DTSTART:20160101T000000
END:STANDARD
END:VTIMEZONE
BEGIN:VEVENT
DTSTART;TZID=UTC:20220910T080000
DTEND;TZID=UTC:20220910T170000
DTSTAMP:20260423T155325
CREATED:20220727T231703Z
LAST-MODIFIED:20220729T194734Z
UID:4124-1662796800-1662829200@anewwaytolife.com
SUMMARY:Pet Saver Pet First Aid Training in Columbus\, Ohio Sept
DESCRIPTION:
URL:https://anewwaytolife.com/event/pet-saver-pet-first-aid-training-columbus/
END:VEVENT
BEGIN:VEVENT
DTSTART;VALUE=DATE:20220910
DTEND;VALUE=DATE:20220913
DTSTAMP:20260423T155325
CREATED:20220727T231608Z
LAST-MODIFIED:20220727T231608Z
UID:4122-1662768000-1663027199@anewwaytolife.com
SUMMARY:Pet Tech Instructor Training Columbus OH
DESCRIPTION:
URL:https://anewwaytolife.com/event/pet-tech-instructor-training-columbus-oh-2/
END:VEVENT
BEGIN:VEVENT
DTSTART;TZID=UTC:20220820T080000
DTEND;TZID=UTC:20220820T170000
DTSTAMP:20260423T155325
CREATED:20220727T231512Z
LAST-MODIFIED:20220727T231512Z
UID:4120-1660982400-1661014800@anewwaytolife.com
SUMMARY:Pet Saver Pet First Aid Training
DESCRIPTION:
URL:https://anewwaytolife.com/event/pet-saver-pet-first-aid-training/
END:VEVENT
BEGIN:VEVENT
DTSTART;VALUE=DATE:20220820
DTEND;VALUE=DATE:20220823
DTSTAMP:20260423T155325
CREATED:20220727T231425Z
LAST-MODIFIED:20220727T231425Z
UID:4118-1660953600-1661212799@anewwaytolife.com
SUMMARY:Pet Tech Instructor Training Pittsburgh PA
DESCRIPTION:
URL:https://anewwaytolife.com/event/pet-tech-instructor-training-pittsburgh-pa/
END:VEVENT
BEGIN:VEVENT
DTSTART;VALUE=DATE:20200612
DTEND;VALUE=DATE:20200615
DTSTAMP:20260423T155325
CREATED:20200129T212219Z
LAST-MODIFIED:20200129T212219Z
UID:2517-1591920000-1592179199@anewwaytolife.com
SUMMARY:Pet Tech Instructor Training  Madison\, WI
DESCRIPTION:Pet Tech 3 day Instructor Training Madison\, WI
URL:https://anewwaytolife.com/event/pet-tech-instructor-training-madison-wi/
END:VEVENT
BEGIN:VEVENT
DTSTART;VALUE=DATE:20200424
DTEND;VALUE=DATE:20200427
DTSTAMP:20260423T155325
CREATED:20200129T212043Z
LAST-MODIFIED:20200129T212043Z
UID:2514-1587686400-1587945599@anewwaytolife.com
SUMMARY:Pet Tech Instructor Training Chicago
DESCRIPTION:Pet Tech 3 day Instructor Training Chicago
URL:https://anewwaytolife.com/event/pet-tech-instructor-training-chicago-4/
END:VEVENT
BEGIN:VEVENT
DTSTART;VALUE=DATE:20200313
DTEND;VALUE=DATE:20200316
DTSTAMP:20260423T155325
CREATED:20200129T211927Z
LAST-MODIFIED:20200129T211927Z
UID:2512-1584057600-1584316799@anewwaytolife.com
SUMMARY:Pet Tech Instructor Training Detroit
DESCRIPTION:Pet Tech 3 day Instructor Training Detroit
URL:https://anewwaytolife.com/event/pet-tech-instructor-training-detroit/
END:VEVENT
BEGIN:VEVENT
DTSTART;VALUE=DATE:20200223
DTEND;VALUE=DATE:20200226
DTSTAMP:20260423T155325
CREATED:20200129T211644Z
LAST-MODIFIED:20200129T211644Z
UID:2510-1582416000-1582675199@anewwaytolife.com
SUMMARY:Pet Tech Instructor Training Columbus
DESCRIPTION:Pet Tech 3 Day Instructor Training Columbus
URL:https://anewwaytolife.com/event/pet-tech-instructor-training-columbus/
END:VEVENT
BEGIN:VEVENT
DTSTART;TZID=UTC:20191206T080000
DTEND;TZID=UTC:20191206T170000
DTSTAMP:20260423T155325
CREATED:20190730T032013Z
LAST-MODIFIED:20190730T032013Z
UID:2396-1575619200-1575651600@anewwaytolife.com
SUMMARY:Pet Tech Pet Saver Training-Chicago
DESCRIPTION:Pet Tech Pet Saver Training-Chicago/Tinley Park
URL:https://anewwaytolife.com/event/pet-tech-pet-saver-training-chicago/
END:VEVENT
BEGIN:VEVENT
DTSTART;VALUE=DATE:20191206
DTEND;VALUE=DATE:20191209
DTSTAMP:20260423T155325
CREATED:20190730T032156Z
LAST-MODIFIED:20190730T032156Z
UID:2398-1575590400-1575849599@anewwaytolife.com
SUMMARY:Pet Tech Instructor Training - Chicago
DESCRIPTION:Pet Tech Instructor Training – Chicago/Tinley Park
URL:https://anewwaytolife.com/event/pet-tech-instructor-training-chicago-3/
END:VEVENT
BEGIN:VEVENT
DTSTART;TZID=UTC:20191012T080000
DTEND;TZID=UTC:20191012T170000
DTSTAMP:20260423T155325
CREATED:20190730T031901Z
LAST-MODIFIED:20190730T031901Z
UID:2394-1570867200-1570899600@anewwaytolife.com
SUMMARY:Pet Tech Pet Saver Training - Indianapolis
DESCRIPTION:Pet Tech Pet Saver Training – Indianapolis\, IN
URL:https://anewwaytolife.com/event/pet-tech-pet-saver-training-indianapolis/
END:VEVENT
BEGIN:VEVENT
DTSTART;VALUE=DATE:20191012
DTEND;VALUE=DATE:20191015
DTSTAMP:20260423T155325
CREATED:20190730T031754Z
LAST-MODIFIED:20190730T031754Z
UID:2392-1570838400-1571097599@anewwaytolife.com
SUMMARY:Pet Tech Instructor Training - Indianapolis
DESCRIPTION:Pet Tech Instructor Training – Indianapolis\, IN
URL:https://anewwaytolife.com/event/pet-tech-instructor-training-indianapolis-2/
END:VEVENT
BEGIN:VEVENT
DTSTART;TZID=UTC:20190922T080000
DTEND;TZID=UTC:20190922T170000
DTSTAMP:20260423T155325
CREATED:20190730T031455Z
LAST-MODIFIED:20190730T031455Z
UID:2388-1569139200-1569171600@anewwaytolife.com
SUMMARY:Pet Saver Class
DESCRIPTION:Pet Saver Class Cincinnati\, OH
URL:https://anewwaytolife.com/event/pet-saver-class/
END:VEVENT
BEGIN:VEVENT
DTSTART;VALUE=DATE:20190922
DTEND;VALUE=DATE:20190925
DTSTAMP:20260423T155325
CREATED:20190730T031643Z
LAST-MODIFIED:20190730T031643Z
UID:2390-1569110400-1569369599@anewwaytolife.com
SUMMARY:Pet Tech Instructor Training - Cincinnati
DESCRIPTION:Pet Tech Instructor Training Cincinnati\, OH
URL:https://anewwaytolife.com/event/pet-tech-instructor-training-cincinnati/
END:VEVENT
BEGIN:VEVENT
DTSTART;VALUE=DATE:20190515
DTEND;VALUE=DATE:20190518
DTSTAMP:20260423T155325
CREATED:20190502T132552Z
LAST-MODIFIED:20190502T132552Z
UID:2302-1557878400-1558137599@anewwaytolife.com
SUMMARY:Pet Tech Instructor Training Chicago
DESCRIPTION:Pet Tech Instructor Training Chicago
URL:https://anewwaytolife.com/event/pet-tech-instructor-training-chicago-2/
END:VEVENT
BEGIN:VEVENT
DTSTART;VALUE=DATE:20190407
DTEND;VALUE=DATE:20190408
DTSTAMP:20260423T155325
CREATED:20190321T164644Z
LAST-MODIFIED:20190321T164802Z
UID:2262-1554595200-1554681599@anewwaytolife.com
SUMMARY:Pet Saver Training - Chardon\, OH
DESCRIPTION:
URL:https://anewwaytolife.com/event/pet-saver-training-chardon-oh-2/
END:VEVENT
BEGIN:VEVENT
DTSTART;VALUE=DATE:20190407
DTEND;VALUE=DATE:20190410
DTSTAMP:20260423T155325
CREATED:20190321T164325Z
LAST-MODIFIED:20190321T164505Z
UID:2258-1554595200-1554854399@anewwaytolife.com
SUMMARY:Pet Tech Instructor Training - Cleveland
DESCRIPTION:3 Day Instructor Training to be held in Chardon\, OH
URL:https://anewwaytolife.com/event/pet-tech-instructor-training-cleveland/
END:VEVENT
BEGIN:VEVENT
DTSTART;VALUE=DATE:20190406
DTEND;VALUE=DATE:20190407
DTSTAMP:20260423T155325
CREATED:20190321T164552Z
LAST-MODIFIED:20190321T164552Z
UID:2260-1554508800-1554595199@anewwaytolife.com
SUMMARY:Pet Saver Training - Chardon\, OH
DESCRIPTION:
URL:https://anewwaytolife.com/event/pet-saver-training-chardon-oh/
END:VEVENT
BEGIN:VEVENT
DTSTART;TZID=UTC:20180519T080000
DTEND;TZID=UTC:20180521T170000
DTSTAMP:20260423T155325
CREATED:20180117T171832Z
LAST-MODIFIED:20180117T171832Z
UID:1817-1526716800-1526922000@anewwaytolife.com
SUMMARY:Pet Tech Instructor Training   Chicago\, IL
DESCRIPTION:Pet Tech Instructor Training Chicago\, IL
URL:https://anewwaytolife.com/event/pet-tech-instructor-training-chicago-il/
LOCATION:Chicago\, IL\, United States
END:VEVENT
BEGIN:VEVENT
DTSTART;TZID=UTC:20180224T080000
DTEND;TZID=UTC:20180226T170000
DTSTAMP:20260423T155325
CREATED:20180117T171648Z
LAST-MODIFIED:20180117T171648Z
UID:1814-1519459200-1519664400@anewwaytolife.com
SUMMARY:Pet Tech Instructor Training  Columbus OH
DESCRIPTION:3 day Pet Tech Instructor training
URL:https://anewwaytolife.com/event/pet-tech-instructor-training-columbus-oh/
LOCATION:Columbus\, OH\, United States
END:VEVENT
BEGIN:VEVENT
DTSTART;TZID=UTC:20170827T080000
DTEND;TZID=UTC:20170829T170000
DTSTAMP:20260423T155325
CREATED:20170712T170509Z
LAST-MODIFIED:20170712T170509Z
UID:1586-1503820800-1504026000@anewwaytolife.com
SUMMARY:Pet Tech Instructor Training - Chicago
DESCRIPTION:Pet Tech Instructor Training Chicago- Tinley Park
URL:https://anewwaytolife.com/event/pet-tech-instructor-training-chicago/
LOCATION:Tinley Park\, IL\, United States
END:VEVENT
BEGIN:VEVENT
DTSTART;TZID=UTC:20170804T080000
DTEND;TZID=UTC:20170806T170000
DTSTAMP:20260423T155325
CREATED:20170218T185910Z
LAST-MODIFIED:20170218T185910Z
UID:1483-1501833600-1502038800@anewwaytolife.com
SUMMARY:Pet Tech Instructor Training - Indianapolis
DESCRIPTION:Pet Tech Instructor Training Indianapolis
URL:https://anewwaytolife.com/event/pet-tech-instructor-training-indianapolis/
LOCATION:Indianaplis\, IN\, United States
END:VEVENT
BEGIN:VEVENT
DTSTART;TZID=UTC:20170507T080000
DTEND;TZID=UTC:20170509T170000
DTSTAMP:20260423T155325
CREATED:20170120T183559Z
LAST-MODIFIED:20170120T183559Z
UID:1458-1494144000-1494349200@anewwaytolife.com
SUMMARY:Pet Tech Instructor Training
DESCRIPTION:Pet Tech Instructor Training – Chicago\, IL
URL:https://anewwaytolife.com/event/pet-tech-instructor-training-4/
END:VEVENT
BEGIN:VEVENT
DTSTART;TZID=UTC:20170402T080000
DTEND;TZID=UTC:20170404T170000
DTSTAMP:20260423T155325
CREATED:20170120T183413Z
LAST-MODIFIED:20170120T183413Z
UID:1455-1491120000-1491325200@anewwaytolife.com
SUMMARY:Pet Tech Instructor Training
DESCRIPTION:Pet Tech Instructor Training – Cleveland\, OH
URL:https://anewwaytolife.com/event/pet-tech-instructor-training-3/
LOCATION:Cleveland\, OH\, United States
END:VEVENT
END:VCALENDAR